BEGIN:VCALENDAR
VERSION:2.0
PRODID:icalendar-ruby
CALSCALE:GREGORIAN
BEGIN:VEVENT
DTSTAMP:20260424T154052Z
UID:a23fe199-2f62-4133-acc9-63ebe7d0d1c0
DTSTART:20260625T100000
DTEND:20260625T160000
DESCRIPTION:Wir bieten schöne Dinge\, die im Küchen-Museum nicht mehr geb
 raucht werden. Küchen-Möbel\, Geräte\, Geschirr\, Gläser\, Deko und vi
 eles mehr. Jede Woche Neuzugänge.
LOCATION:Spichernstraße  30161 Vahrenwald-List
SUMMARY:Shop-Verkauf im Küchenmuseum
END:VEVENT
END:VCALENDAR
