BEGIN:VCALENDAR
VERSION:2.0
PRODID:icalendar-ruby
CALSCALE:GREGORIAN
BEGIN:VEVENT
DTSTAMP:20260421T074905Z
UID:64f18745-db74-4bef-9a75-19eb58ff7d33
DTSTART:20260906T110000
DTEND:20260906T180000
DESCRIPTION:Wir freuen uns\, dass Sie an unseren Trödelmarkt in in Monhei
 m auf dem HELLWEG-Parkplatz interessiert sind.\n\nAuf unseren Märkten fin
 den Sie in der Regel:\nviele private Trödler welche sowohl alte Raritäte
 n als auch Kitsch Kunst und Krempel anbieten. Hier lässt sich sicherlich 
 ein Schnäppchen machen...\n preiswerte Neuwaren wie zum Beispiel Spielze
 ug\, Werkzeug\, modische Textilien...\nvielfältige Gastronomie vom klassi
 schen Imbiss über den Schwenkgrill bis hin zum erfrischenden Slush-Eis  
    \nfrisches Obst und Gemüse zu günstigen Preisen\n\nDarüber hinaus 
 haben wir tolle Angebot für private Aussteller mit Trödel\, z. B. beim H
 ELLWEG in Monheim: 5 Meter Trödel nur 45€ incl. PKW am Stand.\n \n Bi
 tte senden Sie uns Anfragen und Buchungen ausschließlich über unsere Hom
 epage.
LOCATION:Benzstraße 5 40789 Baumberg
SUMMARY:HELLWEG Monheim 
END:VEVENT
END:VCALENDAR
