BEGIN:VCALENDAR
VERSION:2.0
PRODID:icalendar-ruby
CALSCALE:GREGORIAN
BEGIN:VEVENT
DTSTAMP:20260425T202536Z
UID:7dfde763-1ef3-4d15-984e-4ee184928873
DTSTART:20260501T110000
DTEND:20260501T170000
DESCRIPTION:Flohmarkt auf dem Gelände Hit Euskirchen Rotzheimer Str. 117\n
 Platzvergabe ab 6.00 Uhr\nStandplätze sind ab 3m möglich\nStandgebühren
  pro lfd. Meter Trödel im Freien € 11\,00\, Neuware € 20\,00\, zuzüg
 lich € 5\,00 Grundgebühr\n \n \n 
LOCATION:Roitzheimer Straße 117 53879 Roitzheim
SUMMARY:Flohmarkt\, HIT Roitzheimer Str. 117\, 53879 Euskirchen
END:VEVENT
END:VCALENDAR
