BEGIN:VCALENDAR
VERSION:2.0
PRODID:icalendar-ruby
CALSCALE:GREGORIAN
BEGIN:VEVENT
DTSTAMP:20260425T202100Z
UID:811d37d3-cf55-43b9-9986-dcdb174c8f23
DTSTART:20261129T110000
DTEND:20261129T180000
DESCRIPTION:Er hat all unsere Erwartungen übertroffen und wird der neue Me
 ga Markt im Kreis Düren werden. Denn hier haben wir die Besten und schön
 sten Märkte organisieren dürfen. Hier kommen alte Erinnerungen auf. Unse
 r Markt am alten obi hat hier Maßstäbe gesetzt und dieser wird an den Er
 folgen anknüpfen. Deshalb die Wahl für Ihren Trödelkalender.\nAufgrund 
 der Riesen Resonanz unser 2. Standort in Jülich. Dieser bietet ca 120 Tei
 lnehmern\, die Möglichkeit an einem neuen\, super gelegenen Standort trö
 deln zu können\, deshlab frühzeitig buchen.\nBamberger Märkte\n\nNeu Nu
 tzten Sie unsere Leihpavillons. Stabile\, schöne Zelte schützen Sie vor 
 Wind und Wetter\, Sonne und im schlechtesten Fall vor Regen. 3*3m incl. Au
 f- &amp\; Abbau nur 10.-\, in 4\,50*3m nur 15.- und 6*3m nur 20.-\nseit 30
  Jahren der Begriff für Trödelmärkte in der Euregio\nRiesen Werbung\nAn
 zeigen in den Fachzeitschriften und der lokalen Presse\n200 DIN A1 Plakate
 \nstets vor Ort: gepfelegte Gastronomie über Imbiss\, Cafeteria\,\,\,\,\n
 Plätze stets Nummeriert und nie Doppelt belegt\nStammplätze für unsere 
 Profis\nTrödel 10.-/m keine Grundgebühr\nAngebot: 5m 40.-\nNeuware 15.-/
 m keine Grundgebühr\nAngebot: 5m 70.-\n\nStromanschlüße stets vorhanden
 Jahresvertrag für Eis zu vergebenPlatzvergabe Samstag von 15.-18.00Sonnta
 g ab 06.00\nbamberger märktejakob bambergerstich 13452249 eschweilertel:
  02403-10115mobil: 0172-2385947www.toni-bamberger.debamberger.maerkte@t-
 online.debuchungen per sms &amp\; whatsapp ebenfalls möglich
LOCATION:Am Klingerpützchen 4 52428 
SUMMARY:JÜLICH TOOM
END:VEVENT
END:VCALENDAR
