BEGIN:VCALENDAR
VERSION:2.0
PRODID:icalendar-ruby
CALSCALE:GREGORIAN
BEGIN:VEVENT
DTSTAMP:20260425T213455Z
UID:2bcc1904-a660-444a-9da8-4ee42b4bdc0c
DTSTART:20261108T063000
DTEND:20261108T160000
DESCRIPTION:Der Markt findet auf dem Festplatzgelände statt.\n \nUnsere P
 reise: Trödel 6\,00 €/m  Neuware 8\,00 €/m\n 
LOCATION:Hinter der Ahe  27404 
SUMMARY:Zeven 
END:VEVENT
END:VCALENDAR
