BEGIN:VCALENDAR
VERSION:2.0
PRODID:icalendar-ruby
CALSCALE:GREGORIAN
BEGIN:VEVENT
DTSTAMP:20260420T152439Z
UID:83276328-b11c-499f-bb9c-66516abe6e00
DTSTART:20260517T110000
DTEND:20260517T180000
DESCRIPTION:großer Trödelmarkt auf dem Marktkauf-Parkplatz in Gelsenkirch
 en\nPlatzvergabe am Vortag  13-14 Uhr  (keine Reservierung per mail)\nTr
 ödel  10 EURO lfd. mtr.\nNeuware  15 EURO lfd. mtr.\nGrundgebühr  5 E
 URO
LOCATION:Ulrichstraße 10 45891 Gelsenkirchen-Ost
SUMMARY:Marktkauf Gelsenkirchen
END:VEVENT
END:VCALENDAR
