BEGIN:VCALENDAR
VERSION:2.0
PRODID:icalendar-ruby
CALSCALE:GREGORIAN
BEGIN:VEVENT
DTSTAMP:20260426T034848Z
UID:b5935060-b2f5-4350-9c52-b55b35bc4f9a
DTSTART:20260503T110000
DTEND:20260503T180000
DESCRIPTION:laufende Meter Trödel 10\,-- ¤ und Neuware 15\,-- ¤\n Platz
 vergabe ist samstags von 18.00-19.00 Uhr vor Ort oder sonntag Morgen von 6
 .00-8.00 Uhr
LOCATION:Alfterer Str. 35-37 53347 
SUMMARY:OBI-Baumarkt
END:VEVENT
END:VCALENDAR
