BEGIN:VCALENDAR
VERSION:2.0
PRODID:icalendar-ruby
CALSCALE:GREGORIAN
BEGIN:VEVENT
DTSTAMP:20260426T034933Z
UID:0f3701eb-6909-4f14-893d-36312d94d2d0
DTSTART:20260705T110000
DTEND:20260705T180000
DESCRIPTION:laufende Meter Trödel 10\,-- ¤ und Neuware 15\,-- ¤\n Platz
 vergabe ist samstags von 18.00-19.00 Uhr vor Ort oder sonntag Morgen von 6
 .00-8.00 Uhr
LOCATION:Alfterer Str. 35-37 53347 
SUMMARY:OBI-Baumarkt
END:VEVENT
END:VCALENDAR
