BEGIN:VCALENDAR
VERSION:2.0
PRODID:icalendar-ruby
CALSCALE:GREGORIAN
BEGIN:VEVENT
DTSTAMP:20260426T021946Z
UID:00af2dfc-64d9-46fe-83c7-1d76d83b7435
DTSTART:20260802T110000
DTEND:20260802T180000
DESCRIPTION:laufende Meter Trödel 10\,-- ¤ und Neuware 15\,-- ¤\n Platz
 vergabe ist samstags von 18.00-19.00 Uhr vor Ort oder sonntag Morgen von 6
 .00-8.00 Uhr
LOCATION:Alfterer Str. 35-37 53347 
SUMMARY:OBI-Baumarkt
END:VEVENT
END:VCALENDAR
