BEGIN:VCALENDAR
VERSION:2.0
PRODID:icalendar-ruby
CALSCALE:GREGORIAN
BEGIN:VEVENT
DTSTAMP:20260421T080611Z
UID:c690ca4f-a2a7-43bc-99b3-bd20a5d10d13
DTSTART:20260830T110000
DTEND:20260830T170000
DESCRIPTION: \nPlatzvergabe ab 6Uhr\, Stand aufbau ab 8Uhr\, Markt von 11-
 17Uhr
LOCATION:Alfons-Schulte-Straße 1 49577 
SUMMARY:Parkplatz Posten Börse
END:VEVENT
END:VCALENDAR
