BEGIN:VCALENDAR
VERSION:2.0
PRODID:icalendar-ruby
CALSCALE:GREGORIAN
BEGIN:VEVENT
DTSTAMP:20260421T094038Z
UID:e073630c-d229-4bf0-b043-54ac75dad6c5
DTSTART:20261011T110000
DTEND:20261011T170000
DESCRIPTION: \nPlatzvergabe ab 6Uhr\, Stand aufbau ab 8Uhr\, Markt von 11-
 17Uhr
LOCATION:Alfons-Schulte-Straße 1 49577 
SUMMARY:Parkplatz Posten Börse
END:VEVENT
END:VCALENDAR
