BEGIN:VCALENDAR
VERSION:2.0
PRODID:icalendar-ruby
CALSCALE:GREGORIAN
BEGIN:VEVENT
DTSTAMP:20260425T014806Z
UID:cb17777b-3be5-4be7-8bdd-9e6f2826c7bf
DTSTART:20260712T090000
DTEND:20260712T150000
DESCRIPTION:https://fetzer-veranstaltungen.de/index.php\nFetzer GmbH Verans
 talterRaiffeisenstr. 5Immenstadt 87509 Deutschland\nTel: 08323 96 74 14E-M
 ail: info@fetzermessen.de
LOCATION:Kemptener Straße  87629 
SUMMARY:Flohmarkt Füssen Festplatz
END:VEVENT
END:VCALENDAR
