BEGIN:VCALENDAR
VERSION:2.0
PRODID:icalendar-ruby
CALSCALE:GREGORIAN
BEGIN:VEVENT
DTSTAMP:20260425T014754Z
UID:cd859b92-c2eb-46b3-a5aa-e32dd263869a
DTSTART:20260829T080000
DTEND:20260829T150000
DESCRIPTION:https://fetzer-veranstaltungen.de/index.php\nFetzer GmbH Verans
 talterRaiffeisenstr. 5Immenstadt 87509 Deutschland\nTel: 08323 96 74 14E-M
 ail: info@fetzermessen.de
LOCATION:Kemptener Straße  87629 
SUMMARY:Flohmarkt Füssen Festplatz
END:VEVENT
END:VCALENDAR
