BEGIN:VCALENDAR
VERSION:2.0
PRODID:icalendar-ruby
CALSCALE:GREGORIAN
BEGIN:VEVENT
DTSTAMP:20260425T012829Z
UID:9e1c11f7-780b-4c11-beab-34411baa650a
DTSTART:20260830T090000
DTEND:20260830T150000
DESCRIPTION:https://fetzer-veranstaltungen.de/index.php\nFetzer GmbH Verans
 talterRaiffeisenstr. 5Immenstadt 87509 Deutschland\nTel: 08323 96 74 14E-M
 ail: info@fetzermessen.de
LOCATION:Kemptener Straße  87629 
SUMMARY:Flohmarkt Füssen Festplatz
END:VEVENT
END:VCALENDAR
