BEGIN:VCALENDAR
VERSION:2.0
PRODID:icalendar-ruby
CALSCALE:GREGORIAN
BEGIN:VEVENT
DTSTAMP:20260425T015732Z
UID:1b270c39-ca7f-46c1-9d26-56a0188101e6
DTSTART:20260912T080000
DTEND:20260912T150000
DESCRIPTION:https://fetzer-veranstaltungen.de/index.php\nFetzer GmbH Verans
 talterRaiffeisenstr. 5Immenstadt 87509 Deutschland\nTel: 08323 96 74 14E-M
 ail: info@fetzermessen.de
LOCATION:Kemptener Straße  87629 
SUMMARY:Flohmarkt Füssen Festplatz
END:VEVENT
END:VCALENDAR
