BEGIN:VCALENDAR
VERSION:2.0
PRODID:icalendar-ruby
CALSCALE:GREGORIAN
BEGIN:VEVENT
DTSTAMP:20260425T020716Z
UID:63b0650a-41f1-42d2-a13f-e4a84745166e
DTSTART:20260913T090000
DTEND:20260913T150000
DESCRIPTION:https://fetzer-veranstaltungen.de/index.php\nFetzer GmbH Verans
 talterRaiffeisenstr. 5Immenstadt 87509 Deutschland\nTel: 08323 96 74 14E-M
 ail: info@fetzermessen.de
LOCATION:Kemptener Straße  87629 
SUMMARY:Flohmarkt Füssen Festplatz
END:VEVENT
END:VCALENDAR
