BEGIN:VCALENDAR
VERSION:2.0
PRODID:icalendar-ruby
CALSCALE:GREGORIAN
BEGIN:VEVENT
DTSTAMP:20260424T185938Z
UID:a07adf52-5d67-4f7b-bf0d-37aa2253a942
DTSTART:20261115T100000
DTEND:20261115T160000
DESCRIPTION:Der  große indoor ANTIKMARKT im Einkaufszentrum Weserpark in 
 Bremen ist eine Veranstaltung für alle\, die das Besondere suchen und Ind
 ividualität bevorzugen. Rund 100 Aussteller aus Deutschland und dem benac
 hbarten Ausland präsentieren sich auf dem ANTIKMARKT und bieten ein umfan
 greiches Warenangebot an ausgewählten Antiquitäten\, zeitlosen Design-Kl
 assikern\, Dekorationen\, Schmuck\, hochwertigen Vintage- und Shabby Chic 
 Möbeln\, tollen Retro-Stücken und vielem mehr. Die Mischung aus hochwert
 igen und wundervollen Antiquitäten\, schrillen und trendigen Retrostücke
 n\, verspielten und wunderschönen Vintage Waren versetzen die Besucher da
 bei in die guten alten Zeiten zurück. Im Eintrittspreis enthalten ist das
  Angebot der kostenlosen Expertenberatung für mitgebrachte antike Stücke
  von zuhause. Unser Sachverständiger schätzt Ihre Waren und berät die B
 esucher auch beim Weiterverkauf. Vielleicht schlummert bei Ihnen ja ein ga
 nz besonderer Schatz. Wir freuen uns auf Euren Besuch. Der Eintritt kostet
  5 Euro\, Kinder kostenlos und ab 15.00 Uhr 3 Euro. Parken ist frei. Gastr
 onomie im Center geöffnet.\nWeitere Infos finden Sie auf unserer Homepage
 : www.nostalgia-markt.de\nFür eine Standplatz Buchung kontaktieren Sie un
 s per Mail: service@thoermann-messen.de oder rufen uns an: 02131-4030940
LOCATION:Hans-Bredow-Straße 19 28307 Osterholz
SUMMARY:indoor Antikmarkt Weserpark Einkaufszentrum\, Bremen
END:VEVENT
END:VCALENDAR
