BEGIN:VCALENDAR
VERSION:2.0
PRODID:icalendar-ruby
CALSCALE:GREGORIAN
BEGIN:VEVENT
DTSTAMP:20260421T124226Z
UID:39cd4472-1375-4f3f-a81b-ee3ae95fb697
DTSTART:20260719T110000
DTEND:20260719T180000
DESCRIPTION:Dieser beliebte Trödelmarkt in Recklinghausen an der Metro ist
  komplett überdacht.\nPreise:\nAngebot 4m Trödel für 35\,00€ (inkl. G
 rundgebühr)\nlfdm. Trödel: 10\,00€\nlfdm. Neuware: 20\,00€\nGrundgeb
 ühr Trödel: 5\,00€Grundgebühr Neuware: 10\,00€\nSonderstände könn
 en gerne angefragt werden.Anmeldungen bitte unter 0151 11646999 oder unter
  info@vogt-sven.de
LOCATION:Querstraße 53 45661 Stuckenbusch
SUMMARY:Metro Recklinghausen
END:VEVENT
END:VCALENDAR
