BEGIN:VCALENDAR
VERSION:2.0
PRODID:icalendar-ruby
CALSCALE:GREGORIAN
BEGIN:VEVENT
DTSTAMP:20260420T173040Z
UID:d12a38a8-db16-4352-9a29-21e059643fa7
DTSTART:20260823T110000
DTEND:20260823T160000
DESCRIPTION:Sonntag-Flohmarkt auf dem Gelände der Festhalle und Schule in 
 Enzklösterle.\nAufbau ab 8.00 Uhr\, Verkauf von 11.00 bis 16.00 Uhr\nKein
 e Autos am Stand\, Neuware auf Anfrage und nur mit Anmeldung. Bei Standgr
 ößen über 5 m unbedingt rechtzeitig Kontakt aufnehmen.Bitte teilen sie 
 auch mit\, falls sie ihren Anhänger am Stand benötigen !!\nPreis je lauf
 endem Frontmeter für Trödel- und Gebrauchtwaren 10.00 €\nAnmeldungen u
 nd Fragen: Tel. 0177-5043029 oder 07051-933494\, gerne auch per email: res
 ervierung@rt-maerkte.de
LOCATION:Friedenstraße 16 75337 
SUMMARY:Sonntag-Flohmarkt in Enzklösterle
END:VEVENT
END:VCALENDAR
