BEGIN:VCALENDAR
VERSION:2.0
PRODID:icalendar-ruby
CALSCALE:GREGORIAN
BEGIN:VEVENT
DTSTAMP:20260424T035042Z
UID:92512add-5647-48dc-bcd2-3d9e05d713d1
DTSTART:20260607T080000
DTEND:20260607T160000
DESCRIPTION:Flohmarkt auf dem Parkplatz der Firma LIDL in Nürnberg.\nBekan
 nter Platz direkt an der Ernst Sachs Straße 4 in 90441 Nürnberg.komplett
  asphaltiertViele Besucherparkplätze!\nAutobahnausfahrt A73 Nürnberg Sch
 weinauBusline 65 Haltestelle Industriestraße\nReservierung am Vortag von 
 20 bis 21 Uhr direkt am Platzoder Sonntag früh ab 8 Uhr einfach kommen!\n
 Trödel: 5 Meter mit Auto oder Anhänger 30\,00€\nSie möchten einen kle
 inen Stand:Je Meter Trödel 5\,00€ Je Meter Neuware 8\,00€\nGrundgebü
 hr an Sonntags und Feiertagsmärkten pro Stand: 3 Euro\nTermindaueransage:
  0911 – 32 96 23Bei weiteren Fragen erreichen Sie uns unterThomas: 0175 
 – 20 80 762 oder Dani: 0175 – 24 68 169\nJetzt gleich Platz sichern!On
 linereservierung unter:\nLasst uns doch bitte unter https://www.facebook.c
 om/troedelteam.graage/ Euer Like da.
LOCATION:Ernst-Sachs-Straße 2 90441 Süd
SUMMARY:Flohmarkt LIDL Parkplatz Ernst-Sachs-Straße Nürnberg
END:VEVENT
END:VCALENDAR
