BEGIN:VCALENDAR
VERSION:2.0
PRODID:icalendar-ruby
CALSCALE:GREGORIAN
BEGIN:VEVENT
DTSTAMP:20260420T140822Z
UID:1e8cc3a3-53cb-4131-9060-84d0a7777897
DTSTART:20261003T080000
DTEND:20261003T160000
DESCRIPTION:Dieser Floh- und Trödelmarkt findet auf der Hamburger und der 
 Norderstedter Seite statt. Bei dieser Veranstaltung gibt es überdachte St
 ände\, überdachte Marktbuden ( inkl. Tisch\, 3m) und Stände ohne Überd
 achnung.\n \nRESTPLÄTZE WERDEN Mittwoch\, 03.10.24 AB 19.00 UHR BEIM EIS
 CAFE / ECKE OHECHAUSSEE VERGEBEN!!\n Schicken Sie uns eine Mail: flohmark
 t@mumverlag.de\, buchen Sie online: www.mumverlag.de oder rufen Sie uns an
  Die.\, Mi. und Fr. von 9.00-13.00 Uhr und Do. von 13.00-17.00 Uhr unter 0
 40/53004711\n \n 
LOCATION:Schmuggelstieg 13 22419 Hamburg-Nord
SUMMARY:Schmuggelstieg Hamburg
END:VEVENT
END:VCALENDAR
