BEGIN:VCALENDAR
VERSION:2.0
PRODID:icalendar-ruby
CALSCALE:GREGORIAN
BEGIN:VEVENT
DTSTAMP:20260426T022037Z
UID:a22166f1-7996-401f-91b7-72e8d8d64503
DTSTART:20260614T080000
DTEND:20260614T150000
DESCRIPTION:Der traditionelle Alte Messe Trödelmarkt unweit des Völkersc
 hlachtdenkmals gilt als kleiner Bruder des Agra-Antikmarktes in Markkleebe
 rg.\nEinmal im Monat von März bis November haben Flohmarktfans die Mögl
 ichkeit auf dem Gelände des Alten Leipziger Messegeländes ihrer Sammellu
 st zu frönen. Denn jeden 1. Sonntag versammeln sich hier die ältesten 
 Schätze der Leipziger Trödel- und Antikwarenhändler um ein neues Zuhau
 se zu finden.\nMit regelmäßig 100 bis 200 Händlern\, deren Stände unwe
 it dem unübersehbaren „Doppel-M“ (dem Wahrzeichen des Alten Leipzige
 r Messegeländes) aufwarten\, ist der Markt jeden Monat aufs Neue eine w
 ahre Fundgrube für Kultur- und Trödelliebhaber. Antiquitäten\, Möbel
 \, Hausstand\, Krempel\, Nippes\, Kunst\, Design &amp\; diverse Sammlerwa
 ren - der Mix ist das Konzept und die Aufteilung 70/30% Privat- &amp\; Pr
 ofihändler der Geheimtipp\, denn gerade deshalb ist der Markt auch für
  professionelle Aufkäufer eine Reise wert.  \nJeder kann mitmachen ! A
 ufbau ab 6 Uhr ohne Reservierung\, einfach hinkommen. Auto am Stand ist e
 rlaubt! Alle Flächen sind befestigt.Navigation:04103 LeipzigPrager Str. 2
 00Optische Hilfen:Leipziger Messezeichen Doppel-MMarktzeit8 - 15 Uhr\nMit 
 den Öffis:Anfahrt Straßenbahn:Linie 2 Ziel Naunhofer Straße\,Linie 15 Z
 iel Meusdorf\,beide halten direkt am Doppel-M / Prager Straße am Veransta
 ltungsort\n \n 
LOCATION:Prager Straße 200 04103 Südost
SUMMARY:Alte Messe Trödelmarkt Leipzig
END:VEVENT
END:VCALENDAR
