BEGIN:VCALENDAR
VERSION:2.0
PRODID:icalendar-ruby
CALSCALE:GREGORIAN
BEGIN:VEVENT
DTSTAMP:20260424T084941Z
UID:caf84297-a735-4066-b56f-5e8b20f88dfd
DTSTART:20260607T110000
DTEND:20260607T170000
DESCRIPTION:Am Sonntag\, den 7. Juni 2026\, lädt der Deutsch-Holländische
  Stoffmarkt von 11 bis 17 Uhr erneut nach Lüneburg ein. Auf den Sülzwies
 en präsentieren zahlreiche Aussteller ihre Waren an liebevoll dekorierten
  Ständen\, die teilweise üppig mit Stoffen geschmückt sind.\nNähbegeis
 terte wissen: Stoffe müssen nicht nur optisch überzeugen\, sondern sich 
 auch gut anfühlen. Genau darin liegt ein großer Vorteil des Stoffmarktes
  gegenüber dem Online-Handel – Besucher können die Materialien direkt 
 anfassen und sich selbst von Qualität und Haptik überzeugen.\nEin weiter
 er Pluspunkt ist der persönliche Austausch mit den Fachleuten vor Ort. Be
 sonders für Nähanfänger bietet sich hier die Gelegenheit\, sich vor dem
  Kauf beraten zu lassen und wertvolle Tipps zu erhalten\, damit das nächs
 te Nähprojekt garantiert gelingt.\nErgänzt wird das vielfältige Angebot
  durch eine große Auswahl an Schnittmustern sowie Kurzwaren wie Applikati
 onen\, Borten\, Nadeln oder Garn.\nDer Eintritt ist wie gewohnt frei.Weite
 re Informationen finden Sie unter: deinstoffmarkt.de
LOCATION:Sülzwiese  21 
SUMMARY:Stoffmarkt Lüneburg
END:VEVENT
END:VCALENDAR
