BEGIN:VCALENDAR
VERSION:2.0
PRODID:icalendar-ruby
CALSCALE:GREGORIAN
BEGIN:VEVENT
DTSTAMP:20260421T111817Z
UID:0a885b55-ea7f-4c77-9a6a-384ea3f2a592
DTSTART:20261024T060000
DTEND:20261024T130000
DESCRIPTION:💛 Flohmarkt Bielefeld am Leineweberring 🧡\nWichtige Infos
  auf einen Blick:\nTische\, Stühle oder Kleiderständer bitte selbst mitb
 ringen\, wir stellen kein Material zur Verfügung.\n💶 Standgeld:\n• T
 rödel &amp\; Secondhand: 8\,00 € pro Meter\n• Das Standgeld wird nach
  dem Aufbau kassiert.\n✅ Keine Anmeldung erforderlich – einfach kommen
  und mitmachen!\n🕕 Platzvergabe ab 6:00 Uhr\n🚗 Auto am Stand erlaubt
  – bis max. 3 Meter\n🚻 Toiletten vor Ort – gepflegt durch unseren P
 latzwart Axel (0\,70 €)\n🌳 Viele schattige Plätze – perfekt für h
 eiße Tage!\nBringt gute Laune\, Zeit zum Stöbern – und vielleicht ein 
 bisschen Kleingeld für ein Eis! 🍦😉\n📍 Adresse:\nLeineweberring (
 Eckendorfer Straße 137)\, 33609 Bielefeld\n
LOCATION:Eckendorfer Straße 137 33609 Baumheide
SUMMARY:❤Flohmarkt Bielefeld NRW am Leineweberring
END:VEVENT
END:VCALENDAR
