BEGIN:VCALENDAR
VERSION:2.0
PRODID:icalendar-ruby
CALSCALE:GREGORIAN
BEGIN:VEVENT
DTSTAMP:20260420T030631Z
UID:f79f1c91-214f-4105-b785-bcb7787d2de2
DTSTART:20260429T060000
DTEND:20260429T160000
DESCRIPTION:Der Platz befindet sich in Nürnberg in der Flughafenstrasse 10
 0.\nGrossparkplatz P31.\nDirekt am Flughafen/Airport Nürnberg.\nJEDEN MIT
 TWOCH JEDEN MITTWOCH JEDEN MITTWOCH\nErreichbar mit:U-Bahn Linie 2 Haltest
 elle Nürnberg Flughafen sowie\nBus Linie 30 Haltestelle Luftamt oder\nBus
  Linie 33 Haltestelle Flughafenstrasse\nReservierung:\nonline unter www.tr
 oedelteam-graage.de\noder\nMittwoch früh ab 6 Uhr kommen.\nTrödel: 6 Met
 er mit Auto oder Anhänger 20\,00€Neuware: 6 Meter mit Auto oder Anhäng
 er 20\,00€Je Meter Trödel 5\,00€ Je Meter Neuware 8\,00€\nTermindau
 eransage: 0911 – 32 96 23\nBei weiteren Fragen erreichen Sie uns unterTh
 omas: 0175 – 20 80 762Dani: 0175 – 24 68 169\nJetzt gleich Platz siche
 rn!Onlinereservierung unter:www.troedelteam-graage.de / Onlinereservierung
 \nLasst uns doch bitte unter https://www.facebook.com/troedelteam.graage/ 
 Euer Like da.
LOCATION:Flughafenstraße 100 90411 Nordwestliche Außenstadt
SUMMARY:Riesenflohmarkt Flughafen Nürnberg P7 Flughafenstrasse 100 jeden M
 ittwoch
END:VEVENT
END:VCALENDAR
