BEGIN:VCALENDAR
VERSION:2.0
PRODID:icalendar-ruby
CALSCALE:GREGORIAN
BEGIN:VEVENT
DTSTAMP:20260419T223946Z
UID:11c9978e-4c60-4335-ba96-ed3946525d86
DTSTART:20260502T080000
DTEND:20260502T160000
DESCRIPTION:Der Platz befindet sich in Nürnberg in der Flughafenstrasse 10
 0.\nGrossparkplatz P31.\nDirekt am Flughafen/Airport Nürnberg.\nJEDEN SAM
 STAG JEDEN SAMSTAG JEDEN SAMSTAG\nErreichbar mit:U-Bahn Linie 2 Haltestell
 e Nürnberg Flughafen sowie\nBus Linie 30 Haltestelle Luftamt oder\nBus Li
 nie 33 Haltestelle Flughafenstrasse\nReservierung:\nonline unter www.troed
 elteam-graage.de oder\nam Vortag zwischen 17 und 18 Uhr direkt am Platz od
 er\nSamstag früh ab 6 Uhr kommen.\nTrödel: 6 Meter mit Auto oder Anhäng
 er 30\,00€Neuware: 6 Meter mit Auto oder Anhänger 45\,00€Je Meter Tr
 ödel 5\,00€ Je Meter Neuware 8\,00€\nTermindaueransage: 0911 – 32 9
 6 23\nBei weiteren Fragen erreichen Sie uns unterThomas: 0175 – 20 80 76
 2Dani: 0175 – 24 68 169\nJetzt gleich Platz sichern!Onlinereservierung u
 nter:www.troedelteam-graage.de / Onlinereservierung\nLasst uns doch bitte 
 unter https://www.facebook.com/troedelteam.graage/ Euer Like da.
LOCATION:Flughafenstraße Flughafenstraße 100 90411 Nordwestliche Außenst
 adt
SUMMARY:Riesenflohmarkt Flughafen Nürnberg P7 Flughafenstrasse 100 jeden S
 amstag
END:VEVENT
END:VCALENDAR
