BEGIN:VCALENDAR
VERSION:2.0
PRODID:icalendar-ruby
CALSCALE:GREGORIAN
BEGIN:VEVENT
DTSTAMP:20260423T215820Z
UID:b7fa44d3-2262-495e-ac8d-01a324b86b2e
DTSTART:20260604T080000
DTEND:20260604T160000
DESCRIPTION:Enkler - Einer der günstigsten Veranstalter Süddeutschlands. 
 Bekannt für gutbesuchte und umsatzstarke Floh-\, Trödel-\, Sammler- und 
 Jahrmärkte in Ihrer Nähe. Bekannt und bewährt seit über 25 Jahren!!!\n
 Weitere Infos unter: www.markt-enkler.de\nGerne beantworten wir Ihre Frage
 n\, schreiben Sie uns einfach eine Email:enklers-maerkte@web.de
LOCATION:Happurger Straße 14A 91224 Hohenstadt
SUMMARY:Flohmarkt Hohenstadt (Pommelsbrunn) PEZ
END:VEVENT
END:VCALENDAR
