BEGIN:VCALENDAR
VERSION:2.0
PRODID:icalendar-ruby
CALSCALE:GREGORIAN
BEGIN:VEVENT
DTSTAMP:20260420T110258Z
UID:655c684d-afcd-4f0a-bb24-a551c89e6822
DTSTART:20261128T080000
DTEND:20261128T160000
DESCRIPTION:Hallenflohmarkt 8 bis 16 Uhr \, Aufbau ab 6 h 30\nStandmieten j
 e Tisch ( 170 x 70 cm ) Mitte 19 € \, Wand 22 €\n   je Meter mit eig
 enem Tisch Mitte 9 € oder Wand 11 € \, Mindestabnahme 2 Meter\n \nFü
 r das leibliche Wohl ist gesorgt\nInfo 0781 - 9673898 oder 0176 444 222 24
          
LOCATION:Festhallenstraße 1 77652 
SUMMARY:Bohlsbach\, Festhalle
END:VEVENT
END:VCALENDAR
