BEGIN:VCALENDAR
VERSION:2.0
PRODID:icalendar-ruby
CALSCALE:GREGORIAN
BEGIN:VEVENT
DTSTAMP:20260420T091814Z
UID:12d1f046-960a-464c-8ea8-d3f6cb4815a7
DTSTART:20261219T080000
DTEND:20261219T160000
DESCRIPTION:Hallenflohmarkt 8 bis 16 Uhr \, Aufbau ab 6 h 30\nStandmieten j
 e Tisch ( 170 x 70 cm ) Mitte 19 € \, Wand 22 €\n   je Meter mit eig
 enem Tisch Mitte 9 € oder Wand 11 € \, Mindestabnahme 2 Meter\n \nFü
 r das leibliche Wohl ist gesorgt\nInfo 0781 - 9673898 oder 0176 444 222 24
          
LOCATION:Festhallenstraße 1 77652 
SUMMARY:Bohlsbach\, Festhalle
END:VEVENT
END:VCALENDAR
