BEGIN:VCALENDAR
VERSION:2.0
PRODID:icalendar-ruby
CALSCALE:GREGORIAN
BEGIN:VEVENT
DTSTAMP:20260424T053530Z
UID:8e504d0b-57d8-40d8-a5a4-d921eaba633f
DTSTART:20260726T080000
DTEND:20260726T160000
DESCRIPTION:Flohmarkt auf dem Parkplatz der Firma LIDL in Fürth.\nBekannte
 r Platz direkt an der Siemensstrasse 41 in 90766 Fürth.komplett asphaltie
 rtViele Besucherparkplätze!\nAutobahnausfahrt A73 - Fürth PoppenreuthU-B
 ahn: U1 Haltestelle Fürth Hardhöhe\nReservierung am Vortag von 20 bis 21
  Uhr direkt am Platzoder Sonntag früh ab 8 Uhr einfach kommen!\nTrödel: 
 5 Meter mit Auto oder Anhänger 30\,00€\nNeuware: 5 Meter mit Auto oder 
 Anhänger 40\,00€\nSie möchten einen kleinen Stand:Je Meter Trödel 5\,
 00€ Je Meter Neuware 8\,00€\nGrundgebühr an Sonntags und Feiertagsmä
 rkten pro Stand: 3 Euro\nTermindaueransage: 0911 – 32 96 23Bei weiteren 
 Fragen erreichen Sie uns unterThomas: 0175 – 20 80 762 oder Dani: 0175 
 – 24 68 169\nJetzt gleich Platz sichern!Onlinereservierung unter: www.tr
 oedelteam-graage.de\nLasst uns doch bitte unter https://www.facebook.com/t
 roedelteam.graage/ Euer Like da.
LOCATION:Siemensstraße 41 90766 Hardhöhe
SUMMARY:Flohmarkt LIDL Parkplatz Siemensstrasse 41 Fürth
END:VEVENT
END:VCALENDAR
