BEGIN:VCALENDAR
VERSION:2.0
PRODID:icalendar-ruby
CALSCALE:GREGORIAN
BEGIN:VEVENT
DTSTAMP:20260424T051230Z
UID:ed2f80a3-f22b-49e7-8d9b-93465940159c
DTSTART:20261018T080000
DTEND:20261018T160000
DESCRIPTION:Flohmarkt auf dem Parkplatz der Firma LIDL in Langenzenn.\nBeka
 nnter Platz direkt an der Nürnberger Straße 53 in 90579 Langenzenn.kompl
 ett asphaltiertViele Besucherparkplätze!\nSüdwesttangente B8 - Ausfahrt 
 Langenzenn OstBahn: RB12 Haltestelle Langenzenn\nReservierung online unter
  www.troedelteam-graage.deoder Sonntag früh ab 8 Uhr einfach kommen!\nTr
 ödel: 5 Meter mit Auto oder Anhänger 30\,00€\nNeuware: 5 Meter mit Aut
 o oder Anhänger 40\,00€\nSie möchten einen kleinen Stand:Je Meter Trö
 del 5\,00€ Je Meter Neuware 8\,00€\nGrundgebühr an Sonntags und Feier
 tagsmärkten pro Stand: 3 Euro\nTermindaueransage: 0911 – 32 96 23Bei we
 iteren Fragen erreichen Sie uns unterThomas: 0175 – 20 80 762 oder Dani:
  0175 – 24 68 169\nJetzt gleich Platz sichern!Onlinereservierung unter: 
 www.troedelteam-graage.de\nLasst uns doch bitte unter https://www.facebook
 .com/troedelteam.graage/ Euer Like da.
LOCATION:Nürnberger Straße 53 90579 Wasenmühle
SUMMARY:Flohmarkt LIDL Parkplatz Nürnberger Straße 53 in Langenzenn
END:VEVENT
END:VCALENDAR
