BEGIN:VCALENDAR
VERSION:2.0
PRODID:icalendar-ruby
CALSCALE:GREGORIAN
BEGIN:VEVENT
DTSTAMP:20260420T173040Z
UID:38dcad1e-ee33-44be-9445-8ba8d3a2a6cd
DTSTART:20260712T120000
DTEND:20260712T170000
DESCRIPTION:Anfahrt an Sonntagen\; ab 8.30 Uhr. Aufbau ab 10.00 Uhr Markt i
 st von 12.00 bis 17.00 Uhr.\nDie gebühren sind:\nLfd. Meter  9\,00 € 
  \nNeuware auf Anfrage.\nKeine Voranmeldung notwendig. Plätze werden bei
  Anfahrt vergeben.\nImbiss vorhanden \nAuf Ihren Besuch freut sich Famili
 e Bach
LOCATION:Thomas-Howie-Straße 1 76684 
SUMMARY:Kauflandparkplatz Östringen
END:VEVENT
END:VCALENDAR
