BEGIN:VCALENDAR
VERSION:2.0
PRODID:icalendar-ruby
CALSCALE:GREGORIAN
BEGIN:VEVENT
DTSTAMP:20260421T111454Z
UID:579be23b-9718-4978-90eb-879ad435eaed
DTSTART:20260501T110000
DTEND:20260501T180000
DESCRIPTION:Wieder bei uns. Herne ehemaliges Real. Am Großmarkt 4.\nGroße
 r Parkplatz.Zentral gelegen im Ruhrgebiet.\nGut zu ereichen über A 42 und
  A 43.\nBeliebter Standort.\nAufbau ab 6 Uhr morgens.\nInfo: 0151/11646999
 \n 
LOCATION:Am Großmarkt  44653 
SUMMARY:Herne ehemaliges Real
END:VEVENT
END:VCALENDAR
