BEGIN:VCALENDAR
VERSION:2.0
PRODID:icalendar-ruby
CALSCALE:GREGORIAN
BEGIN:VEVENT
DTSTAMP:20260425T175904Z
UID:a8cb828d-9402-4d48-bc7c-6302920f088f
DTSTART:20260818T070000
DTEND:20260818T133000
DESCRIPTION: \nDer wohl schönste Second Hand Kinderkleidermarkt in Deutsc
 hland - direkt am Kemnader See mit Urlaubsflair. Jeden Dienstag von 07:00 
 bis 13:30 Uhr. Auch in den Schulferien! \nAufbau und Platzvergabe : 06:00
  - 08:00 Uhr.\nKeine Reservierung notwendig\, einfach vorbeikommen\, 100 %
  Standplatz garantie! \nDirekt neben den Parkplatz Kemnader See P2 an der
  Uferpromenade.\nDer Eintritt ist selbstverständlich kostenfrei.\nwww.cts
 -märkte.de \nAusladen direkt am Standplatz!\nDer Parkplatz ist kostenpfl
 ichtig!  Darauf haben wir leider keinen Einfluss
LOCATION:Hevener Straße 335 44801 Bochum Süd
SUMMARY:Baby- &amp\; Kindersachen Flohmarkt Kemnader See 
END:VEVENT
END:VCALENDAR
