BEGIN:VCALENDAR
VERSION:2.0
PRODID:icalendar-ruby
CALSCALE:GREGORIAN
BEGIN:VEVENT
DTSTAMP:20260425T175834Z
UID:255043b1-1472-4ec5-8e76-598b2c874a98
DTSTART:20261027T070000
DTEND:20261027T133000
DESCRIPTION: \nDer wohl schönste Second Hand Kinderkleidermarkt in Deutsc
 hland - direkt am Kemnader See mit Urlaubsflair. Jeden Dienstag von 07:00 
 bis 13:30 Uhr. Auch in den Schulferien! \nAufbau und Platzvergabe : 06:00
  - 08:00 Uhr.\nKeine Reservierung notwendig\, einfach vorbeikommen\, 100 %
  Standplatz garantie! \nDirekt neben den Parkplatz Kemnader See P2 an der
  Uferpromenade.\nDer Eintritt ist selbstverständlich kostenfrei.\nwww.cts
 -märkte.de \nAusladen direkt am Standplatz!\nDer Parkplatz ist kostenpfl
 ichtig!  Darauf haben wir leider keinen Einfluss
LOCATION:Hevener Straße 335 44801 Bochum Süd
SUMMARY:Baby- &amp\; Kindersachen Flohmarkt Kemnader See 
END:VEVENT
END:VCALENDAR
