BEGIN:VCALENDAR
VERSION:2.0
PRODID:icalendar-ruby
CALSCALE:GREGORIAN
BEGIN:VEVENT
DTSTAMP:20260424T101519Z
UID:de706c87-325b-447e-b3cb-603a13c6ee76
DTSTART:20260823T080000
DTEND:20260823T160000
DESCRIPTION:Riesenflohmarkt auf dem Parkplatz der Firma OBI in Erlangen.\nD
 ieser Platz befindet sich direkt an der Kurt Schumacher Strasse 14 in 9105
 2 Erlangen.\nKomplett asphaltiert - hier ist immer der Teufel los. Gute Um
 sätze sind hier üblich.\nErreichbar mit:\nAutobahnausfahrt A3 Erlangen T
 ennenlohe\nAutobahnausfahrt A73 Erlangen Zentrum \nOnlinereservierung unt
 er www.troedelteam-graage.de empfohlen oderam Vortag von 20 bis 21 Uhr dir
 ekt am Platzoder Sonntag früh ab 8 Uhr kommen!\nTrödel: 5 Meter mit Auto
  oder Anhänger 30\,00€\nSie möchten einen kleinen Stand:Je Meter Tröd
 el 5\,00€ Je Meter Neuware 8\,00€\nGrundgebühr an Sonntags und Feiert
 agsmärkten pro Stand: 3 Euro\nTermindaueransage: 0911 - 32 96 23Bei weite
 ren Fragen erreichen Sie uns unterThomas: 0175 - 20 80 762 oder Dani: 0175
  - 24 68 169 oder Lilli: 0171 - 79 41 826\nJetzt gleich Platz sichern!Onli
 nereservierung unter:www.troedelteam-graage.de / Onlinereservierung\nLasst
  uns doch bitte unter https://www.facebook.com/troedelteam.graage/ Euer Li
 ke da.
LOCATION:Kurt-Schumacher-Straße 14 91052 
SUMMARY:Riesenflohmarkt Parkplatz OBI Baumarkt in Erlangen Ost
END:VEVENT
END:VCALENDAR
