BEGIN:VCALENDAR
VERSION:2.0
PRODID:icalendar-ruby
CALSCALE:GREGORIAN
BEGIN:VEVENT
DTSTAMP:20260420T090244Z
UID:93152820-9ba4-4d55-9865-a45ef3f73f11
DTSTART:20260920T100000
DTEND:20260920T180000
DESCRIPTION:
LOCATION:Gerhart-Hauptmann-straße 2 30521 Döhren-Wülfel
SUMMARY:AUTOMANIA Modellauto Flohmarkt / Sammlerbörse IAA Messegelände Ha
 nnover
END:VEVENT
END:VCALENDAR
