BEGIN:VCALENDAR
VERSION:2.0
PRODID:icalendar-ruby
CALSCALE:GREGORIAN
BEGIN:VEVENT
DTSTAMP:20260419T193609Z
UID:99e7124b-0091-4f1a-bae9-6ee91f3088fd
DTSTART:20260510T110000
DTEND:20260510T180000
DESCRIPTION:Buchen Sie Ihren Standplatz gerne online auf www.melan.de\nACHT
 UNG: Der Verkauf von Trödel und Neuwaren ist gestattet!\nEgal ob Schnäpp
 chenjagd oder gemütlicher Sonntagsbummel. Auf diesem sehr bekannten Tröd
 elmarkt ist für jeden Besucher etwas geboten.\nÖffnungszeit11:00 bis 18:
 00 Uhr\nParkenVielzahl an Parkplätzen auf dem Globus-Gelände.\nGastronom
 ieFür das leibliche Wohl ist gesorgt.\nAnfahrtBinger Str. 155457 Gensinge
 n  INFOS FÜR VERKÄUFERAufbau ab 9 Uhr! Verkauf ab 11 Uhr! \nGroße Za
 hl privater TrödlerWeit über die Stadtgrenzen hinaus bekannt\nPKW/Transp
 orter am StandPKWs können ab einer Mindestlänge von 3 Metern hinter dem 
 Stand stehen bleiben. Kombis oder Transporter benötigen mindestens 4 bis 
 5 Meter Standlänge. Alternativ stehen Händlerparkplätze zur Verfügung.
 \nAufbauzeitenDer gebuchte Platz kann ab 8 Uhr eingenommen werden und wird
  bis 10 Uhr frei gehalten. Aus Sicherheitsgründen ist zwischen 11 und 16 
 Uhr das Befahren des Geländes mit dem PKW nicht gestattet.
LOCATION:Binger Straße 1 55457 
SUMMARY:Floh &amp\; Trödelmarkt GENSINGEN GLOBUS - mit Neuware
END:VEVENT
END:VCALENDAR
