BEGIN:VCALENDAR
VERSION:2.0
PRODID:icalendar-ruby
CALSCALE:GREGORIAN
BEGIN:VEVENT
DTSTAMP:20260424T161914Z
UID:78defa67-81e2-4b74-8b4f-0db6e10bf5d5
DTSTART:20260503T100000
DTEND:20260503T180000
DESCRIPTION:Revierkunst – Kunst anders erleben.\nMitten im Ruhrgebiet. Un
 ser Revier. Einmal im Jahr.\nVom 24. April bis 3. Mai 2026 verwandelt sich
  das legendäreLWL-Museum Henrichshütte in Hattingenin einen außergewöh
 nlichen Hotspot für zeitgenössische Kunst.\n77 Künstler:innen präsenti
 eren über 600 Werke auf mehr als 3.000 m² Ausstellungsfläche – mitten
  im beeindruckenden historischen Industrie-Ambiente.\nZwischen monumentale
 n Maschinen und rauer Industriekulisse entfaltet sich ein einzigartiger Di
 alog zwischen Kunst und Geschichte des Ruhrgebiets.\nBesucher:innen erwart
 et eine vielseitige Ausstellung mitMalerei\, Skulpturen\, Installationen\,
  Streetart\, digitaler Kunst und Video-Installationen – von modernem Rea
 lismus bis zur Abstraktion.\nEin besonderes Merkmal der Revierkunst:Die K
 ünstler:innen sind an den Wochenenden persönlich vor Ort. Besucher:innen
  können direkt mit ihnen ins Gespräch kommen und Kunstwerke unmittelbar 
 erwerben.\nAuch das weitläufige Außengelände der Henrichshütte mit run
 d 6.000 m² wird in das Ausstellungserlebnis einbezogen.\nHier trifft die 
 industrielle Seele des Ruhrgebiets auf neue künstlerische Positionen\, ü
 berraschende Perspektiven und kraftvolle Werke – echte Revierkunst-Power
 .\nTerminübersicht\nRevierkunstLWL-Museum HenrichshütteWerksstr. 31–33
 45525 Hattingen\nAusstellungsdauer24. April – 3. Mai 2026\nEröffnungsta
 gFreitag\, 24. April 202610 – 22 Uhr | Begrüßung um 18 Uhr\nÖffnungsz
 eiten25. April – 3. Mai | 10 – 18 UhrMontag geschlossen\nKünstler:inn
 en vor OrtFreitag\, Samstag und Sonntag an beiden Wochenenden\nRevierkunst
 preise\nWährend der Ausstellung werden zwei Kunst-Preise vergeben:\nKüns
 tler-KunstpreisDie Wahl erfolgt ausschließlich durch die teilnehmenden K
 ünstler:innen.Vergabe: Sonntag\, 26. April 2026 | 15 Uhr\nPublikumspreisD
 ie Besucher:innen bestimmen ihren Favoriten.Vergabe: Sonntag\, 3. Mai 2026
  | 15 Uhr\nErleben Sie 10 Tage Revierkunst-Power im Ruhrgebiet – gemeins
 am mit den Künstler:innen\, in einer der beeindruckendsten Locations der 
 Industriekultur.\nWeitere Informationen: revierkunst.com
LOCATION:Werksstraße 31 45527 Baak
SUMMARY:Revierkunst 2026 | Die Kunstmesse im Ruhrgebiet
END:VEVENT
END:VCALENDAR
