BEGIN:VCALENDAR
VERSION:2.0
PRODID:icalendar-ruby
CALSCALE:GREGORIAN
BEGIN:VEVENT
DTSTAMP:20260420T140822Z
UID:929e0583-9ab2-44dd-8b64-606228caa1ed
DTSTART:20260517T100000
DTEND:20260517T180000
DESCRIPTION:P6-Parkplatz vom RheinEnergieStadionGegenüber vom RheinEnergie
 Stadion\, hinter den Jahnwiesen\, ist der Flohmarkt "P6".Antiquitäten\, R
 aritäten\, Second-Hand\, alte Platten\, Vasen und Gläser aus den 50er un
 d 60er Jahren. Der Markt bietet viel Abwechslung.\nStandort:P6-ParkplatzSa
 lzburger Weg\, 50933 Köln
LOCATION:Salzburger Weg 13 50858 Lindenthal
SUMMARY:Flohmarkt P6 - P6 Parkplatz vom RheinEnergieStadion
END:VEVENT
END:VCALENDAR
