BEGIN:VCALENDAR
VERSION:2.0
PRODID:icalendar-ruby
CALSCALE:GREGORIAN
BEGIN:VEVENT
DTSTAMP:20260420T123657Z
UID:f43ef3f8-3f44-4552-a2ae-8e2c7d7b421a
DTSTART:20260614T100000
DTEND:20260614T180000
DESCRIPTION:P6-Parkplatz vom RheinEnergieStadionGegenüber vom RheinEnergie
 Stadion\, hinter den Jahnwiesen\, ist der Flohmarkt "P6".Antiquitäten\, R
 aritäten\, Second-Hand\, alte Platten\, Vasen und Gläser aus den 50er un
 d 60er Jahren. Der Markt bietet viel Abwechslung.\nStandort:P6-ParkplatzSa
 lzburger Weg\, 50933 Köln
LOCATION:Salzburger Weg 13 50858 Lindenthal
SUMMARY:Flohmarkt P6 - P6 Parkplatz vom RheinEnergieStadion
END:VEVENT
END:VCALENDAR
