BEGIN:VCALENDAR
VERSION:2.0
PRODID:icalendar-ruby
CALSCALE:GREGORIAN
BEGIN:VEVENT
DTSTAMP:20260421T074108Z
UID:cdaea57d-299d-4789-977a-95d210d3a140
DTSTART:20260927T110000
DTEND:20260927T180000
DESCRIPTION:Aktuelles Angebot:5 Meter Trödel 45€--&gt\; vergewissern Sie
  sich zu Ihrer Sicherheit auf unserer Homepage über die Aktualität der P
 reise / Angebote.\n \nEs freut uns\, dass Sie sich für unseren Trödelma
 rkt in Velbert auf dem Parkplatz vom MediaMarkt interessieren.Der MediaMar
 kt befindet sich in zentraler Lage in der Mitte Velberts nahe der Fußgän
 gerzone / Friedrichstraße. Ein ausgewogenes Verhältnis von Trödel und N
 euware erwartet Sie. Gerade bei schönem Wetter findet man hier viele priv
 ate Aussteller welche ihre ganz persönlichen Schätze anbieten. Eine der 
 wenigen Trödelmärkte in Velbert mit PKW am Stand (sofern es dahinter pas
 st).\nNutzen Sie die Gelegenheit Dinge die Sie nicht mehr benötigen zu Ge
 ld zu machen - oder Sie sind privater (Hobby-)Trödler oder wollen ein sol
 cher werden\, dann sind Sie natürlich auch herzlich willkomen.\nParken Be
 sucherDie nicht mit Ständen bebauten Parkplätze (Getränkemarkt / Aldi e
 tc.) stehen als Besucherparkplätze zur Verfügung.\nStandplatzreservierun
 genüber unser Büro: bis Freitag vor dem Markt 12 Uhrvor Ort: Samstag 17 
 Uhr\, Sonntag ab 7 Uhr\nParken Aussteller / PKW am StandGenerell können S
 ie Ihr Fahrzeug quer hinter dem Stand parken sofern die Länge des Fahrzeu
 ges der Standlänge entspricht (z. B. Golf-Größe ab 4 lfd. Metern / Komb
 i ab 5 lfd. Metern). Fragen Sie im Zweifel gerne die Marktleitung vor Ort 
 bzw. entnehmen Sie die Länge Ihres Fahrzeuges dem Fahrzeugschein.\nStanda
 ufbauAb 7 Uhr - jedoch nicht vor Eintreffen der Marktleitung (erkennbar an
  der gelben Weste / rotes T-Shirt bzw. Pullover)\nVerkaufszeit11 bis 18 Uh
 r\, Abbau ab 16 Uhr möglich\nStandmietenGrundgebühr / Stand: 5€lfd. Me
 ter Trödel 12€lfd. Meter Neuware 20€lfd. Meter Textil / Lederwaren / 
 Werkzeug 22€Eckplatzzuschlag: 20€Reinigungskaution: 5€ (bei sauberem
  Verlassen zurück)Angebot:5 Mtr. Trödel incl. Grundgebühr &amp\; ggf. P
 KW am Stand 45€\n \n \nWeitere Infos auf unserer Homepage www.rieder-m
 aerkte.de (einfach unten auf "Homepage des Veranstalters" klicken). \n \
 n 
LOCATION:Friedrichstraße 303 42551 
SUMMARY:Velbert MediaMarkt
END:VEVENT
END:VCALENDAR
