BEGIN:VCALENDAR
VERSION:2.0
PRODID:icalendar-ruby
CALSCALE:GREGORIAN
BEGIN:VEVENT
DTSTAMP:20260422T041801Z
UID:ef15672a-8587-4219-ae21-0149cbf793e5
DTSTART:20260517T123000
DTEND:20260517T173000
DESCRIPTION:Sonntagsflohmarkt auf dem Parkplatz von REWE Keßler oHG in Ebe
 rbach von 12.30- 17.30 Uhr.\n\nOhne Anmeldung\nAufbau ab 12.00 Uhr!\nStand
 gebühr: € 9\,00/ Meter Standlänge\n\n \nInfos bei Manuela Möller:\n\
 nmoellerberni58@t-online.de\n0151-12581358\n\n \nDer Markt wird gut bewor
 ben.\n 
LOCATION:Güterbahnhofstraße 10A 69412 
SUMMARY:Eberbach: Flohmarkt REWE Keßler oHG (Möller)
END:VEVENT
END:VCALENDAR
