BEGIN:VCALENDAR
VERSION:2.0
PRODID:icalendar-ruby
CALSCALE:GREGORIAN
BEGIN:VEVENT
DTSTAMP:20260421T140641Z
UID:4c2cc0be-2c69-48dc-a290-4ee74017bd4a
DTSTART:20260501T110000
DTEND:20260501T170000
DESCRIPTION:Die gesamte Grevenbroicher Fußgängerzone mit Kölner Straße\
 ,  Marktplatz und Breite Straße bis hin zum Erftufer wird zur Meile für
  Schnäppchenjägerinnen und Schnäppchenjäger.\nWICHTIG: Die Anmeldung i
 st nur möglich über das Formular auf der Webseite gfws-grevenbroich.de!\
 nBereits am frühen Morgen bauen die ausschließlich privaten Trödlerinne
 n und Trödler aus Grevenbroich und Umgebung ihre Stände auf. Und schon b
 ald kommen die ersten Kaufwilligen\, um die schönsten Schätze zu ergatte
 rn. Es entsteht ein buntes Treiben rund um den Handel mit Antiquitäten\, 
 Kleidung\, Spielwaren\, Dekorationsgegenständen und vielem mehr. Denn so 
 manches Teil\, das der Eine nicht mehr gebrauchen kann\, macht einer Ander
 en eine große Freude!\nAuf gehts zur Schnäppchenjagd:Die Schätze vom Da
 chboden oder aus Omas Keller - Antiquitäten\, Kuriositäten und allerlei 
 Nützliches wartet hier auf neue Besitzer. Der Verkauf startet ab 11 Uhr -
  Ende ist um 17 Uhr.\nAuf dem City-Trödelmarkt Grevenbroich findet man au
 sschließlich gebrauchte Waren oder Einzelstücke! Der Verkauf von Neuware
  ist untersagt.
LOCATION:Am Markt 1 41515 
SUMMARY:City-Trödelmarkt 
END:VEVENT
END:VCALENDAR
