BEGIN:VCALENDAR
VERSION:2.0
PRODID:icalendar-ruby
CALSCALE:GREGORIAN
BEGIN:VEVENT
DTSTAMP:20260422T164754Z
UID:40f4b7b2-a666-41d7-a98c-1042b3151fce
DTSTART:20260510T090000
DTEND:20260510T170000
DESCRIPTION:"Antik- &amp\; Trödelmarkt" Ferropolis (Gräfenhainichen) Ferr
 opolisstr.1\, 06773 Gräfenhainichen\, 2 Tage\n \nSA-So 09.+10. Mai 2026 
 (bitte nur von Markt zu Markt anmelden!)\nFolgetermin : 03.-04.Oktober 202
 6 (2 Tage trödeln)\n \nVerkaufszeiten:\nSa/So:                 
        09-17 Uhr\n \nAufbauzeiten:\nFreitags:                
     15.00 Uhr – 18.00 Uhr\nSa/So:                       06
 -08 Uhr\n \nNeu in Ferropolis:1. Standtiefe für jeden Händler: 7m inkl.
  Fahrzeuge! Laufwege für Besucher: 7m!2. Händler-Anmeldung nur schriftli
 ch mit Anschrift und Meterzahl (Daten s.u.)3. Bezahlung vor Einfahrt auf d
 en Platz. 1Meter = 10 Euro/Tag\,\nMindeststandgröße 3m = 30\,00 € (ink
 l. 1 Auto...nicht 2 oder 3!!!!)\nStrom pro Tag 10 €/Tag.\nBestellungen w
 erden von uns bestätigt und sind damit kostenpflichtig verbindlich.\nBest
 ellungen werden von uns bestätigt und sind damit kostenpflichtig verbindl
 ich. Bei Nichterscheinen oder Nichtabsage (mind. 1 Woche vorher) erheben w
 ir 20 Euro Kostenpauschale.\nEs gilt: die vollständigen Marktzeiten sind 
 unbedingt einzuhalten! Früheinpacker unerwünscht. Zuwiderhandlungen füh
 ren zum Ausschluss von unseren Märkten. Es gilt die Platz- und Marktordnu
 ng Ferropolis 2026. Offenes Feuer verboten! Hunde sind generell anzuleinen
 . Müll/Verpackungen usw. sind durch jeden Händler selbst wieder mitzuneh
 men!\n \nAnmeldung schriftlich und vollständig an: SMS/WhatsApp: 0177/79
 94791 mail: info@dacapo-agentur.de\n(Bitte nicht unter Facebook-Messanger 
 anmelden!)Name\, Vorname Anschrift\, Handy\, eMailwann und wieviel m?\nStr
 om ?Privat/gewerblich?\nMfg Herbst (Veranstalter) www.dacapo-agentur.deBit
 te vorher informieren!
LOCATION:Ferropolisstraße 1 06773 
SUMMARY:"Antik- &amp\; Trödelmarkt" Ferropolis \, Gräfenhainichen 09.-10.
  Mai 2026 (SA/SO) - 2 Tage
END:VEVENT
END:VCALENDAR
