BEGIN:VCALENDAR
VERSION:2.0
PRODID:icalendar-ruby
CALSCALE:GREGORIAN
BEGIN:VEVENT
DTSTAMP:20260425T122545Z
UID:40007219-9fe9-4ee6-aea0-11c151b2b7ae
DTSTART:20261003T090000
DTEND:20261003T170000
DESCRIPTION:"Antik- &amp\; Trödelmarkt" Ferropolis (Gräfenhainichen) Ferr
 opolisstr.1\, 06773 Gräfenhainichen\, 2 Tage\n \nSA/SO 03.+04. Oktober 2
 026 \n \n \nVerkaufszeiten:\nSa/So:                        
 09-17 Uhr\n \nAufbauzeiten:\nFreitags:                    15.00
  Uhr – 19.00 Uhr\nSa/So:                       06-08 Uhr\n 
 \nNeu in Ferropolis:1. Standtiefe für jeden Händler: 7m inkl. Fahrzeuge!
  Laufwege für Besucher: 7m!2. Händler-Anmeldung nur schriftlich mit Ansc
 hrift und Meterzahl (Daten s.u.)3. Bezahlung vor Einfahrt auf den Platz. 1
 Meter = 10 Euro/Tag\, (in der Halle nur nach Voranmeldung = 10€/m) Strom
  pro Tag 10 €/Tag.\nBestellungen werden von uns bestätigt und sind dami
 t kostenpflichtig verbindlich. Bei Nichterscheinen oder Nichtabsage (mind.
  1 Woche vorher) erheben wir 20 Euro Kostenpauschale.\n \n4. Es gilt: die
  vollständigen Marktzeiten sind unbedingt einzuhalten! Früheinpacker une
 rwünscht. Zuwiderhandlungen führen zum Ausschluss von unseren Märkten. 
 Es gilt die Platz- und Marktordnung der Halbinsel Pouch. Offenes Feuer ver
 boten! Hunde sind generell anzuleinen. Müll/Verpackungen usw. sind durch 
 jeden Händler selbst wieder mitzunehmen!\n \nAnmeldung schriftlich an: S
 MS/WhatsApp: 0177/7994791 mail: info@dacapo-agentur.de\n(Bitte nicht mehr 
 unter Facebook anmelden!)Name\, Vorname Anschrift\, Handy\, eMailwann und 
 wieviel m?\nWas verkaufen Sie ? (Achtung ! Keine reinen Kisten-Händler\, 
 wo nur Kisten stehen ....)\nStrom ?Privat/gewerblich?\nMfg Herbst (Veranst
 alter) www.dacapo-agentur.de
LOCATION:Ferropolisstraße 1 06773 
SUMMARY:"Antik- &amp\; Trödelmarkt" Ferropolis \, Gräfenhainichen 03.-04.
  Oktober 2026 (SA/SO) - 2 Tage
END:VEVENT
END:VCALENDAR
