BEGIN:VCALENDAR
VERSION:2.0
PRODID:icalendar-ruby
CALSCALE:GREGORIAN
BEGIN:VEVENT
DTSTAMP:20260426T014824Z
UID:86a29812-166d-4844-8e17-d677a09ec34c
DTSTART:20260426T130000
DTEND:20260426T170000
DESCRIPTION:Fashion Flohmarkt Shopping im schönen Stadtpalais Celle (Outdo
 or) am 26.4.2026!\nEingeladen ist jeder\, der Kleidung\, Schuhe\, Schmuck\
 , Deko und Accessoires verkaufen oder kaufen möchte.Geht auf Schnäppchen
 jagd: feilscht\, spart und ergattert euch die besten Stücke\, die andere 
 Ladies aussortiert haben. Das ganze bei cooler Stimmung und lecker Drinks!
 \nDu möchtest einen Stand? - Dann sei schnell!Für 20€ bekommst du eine
  Standfläche von 3m (Tisch/Kleiderständer bitte mitbringen)Für die Anme
 ldung einfach anmelden:\nSMS/telefonisch/Whats App: 01701801339\nEintritt 
 frei!\n 
LOCATION:Langensalzaplatz 1 29221 
SUMMARY:Frauenklamotte - der FASHION FLOHMARKT im Stadtpalais Celle
END:VEVENT
END:VCALENDAR
