BEGIN:VCALENDAR
VERSION:2.0
PRODID:icalendar-ruby
CALSCALE:GREGORIAN
BEGIN:VEVENT
DTSTAMP:20260420T114008Z
UID:7b4239f5-b3d4-4910-b991-fdb0348a0b57
DTSTART:20260503T110000
DTEND:20260503T180000
DESCRIPTION:Großer\, sehr gut besuchter Riesen- Flohmarkt! Jeder kann ohne
  Anmeldung mitmachen! Einfach vorbeikommen! Es gibt genug Platz für alle!
  Platzvergabe ab 7 Uhr! Unser Mitarbeiter zeigt Ihnen Ihren Standplatz! St
 andmiete € 10\,- pro Meter! Bezahlung vor Ort! Fahrzeug kostenlos am Sta
 nd!\nBis dann! Neuwaren erlaubt!\nDer Markt findet bei jedem Wetter statt!
 \n \nTisch\, Stuhl\, Kleiderstange etc. bitte selbst mitbringen!\n \nJet
 zt neu: Besuche www.gerosflohmarkt.de und verkaufe kostenlos Deine Sachen 
 online!\nGerosFlohmarkt.de - Flohmärkte und kostenlose Kleinanzeigen!\n 
LOCATION:Stuttgarter Straße 70 70736 
SUMMARY:Fellbach\, Kaufland\, Riesenflohmarkt! findet statt! Ohne Voranmeld
 ung! Ohne Termin! Einfach vorbeikommen!
END:VEVENT
END:VCALENDAR
