BEGIN:VCALENDAR
VERSION:2.0
PRODID:icalendar-ruby
CALSCALE:GREGORIAN
BEGIN:VEVENT
DTSTAMP:20260420T123859Z
UID:7deaa5a0-0419-4ddc-b035-97bbf2ec9d93
DTSTART:20261011T110000
DTEND:20261011T180000
DESCRIPTION:Großer\, sehr gut besuchter Riesen- Flohmarkt! Jeder kann ohne
  Anmeldung mitmachen! Einfach vorbeikommen! Es gibt genug Platz für alle!
  Platzvergabe ab 7 Uhr! Unser Mitarbeiter zeigt Ihnen Ihren Standplatz! St
 andmiete € 10\,- pro Meter! Bezahlung vor Ort! Fahrzeug kostenlos am Sta
 nd!\nBis dann! Neuwaren erlaubt!\nDer Markt findet bei jedem Wetter statt!
 \n \nTisch\, Stuhl\, Kleiderstange etc. bitte selbst mitbringen!\n \nJet
 zt neu: Besuche www.gerosflohmarkt.de und verkaufe kostenlos Deine Sachen 
 online!\nGerosFlohmarkt.de - Flohmärkte und kostenlose Kleinanzeigen!\n 
LOCATION:Stuttgarter Straße 70 70736 
SUMMARY:Fellbach\, Kaufland\, Riesenflohmarkt! findet statt! Ohne Voranmeld
 ung! Ohne Termin! Einfach vorbeikommen!
END:VEVENT
END:VCALENDAR
