BEGIN:VCALENDAR
VERSION:2.0
PRODID:icalendar-ruby
CALSCALE:GREGORIAN
BEGIN:VEVENT
DTSTAMP:20260425T130746Z
UID:cb75341f-c252-4d00-abf6-1a9b2d4094a8
DTSTART:20260503T110000
DTEND:20260503T150000
DESCRIPTION:Der schönste Langschläferflohmarkt weit und breit! Dazu mitte
 n in der Stadt -  direkt neben dem Schloss - ganz  entspannt ab 11 Uhr! 
 Und wie immer kunterbunt\, fröhlich\, überraschend\, quirlig und total e
 ntspannt. Dieser Flohmarkt ist ausschließlich privaten Verkäufern vorbeh
 alten und bietet eine wunderbare Vielfalt ergänzt mit ungewöhlichen Blum
 en und Pflanzen und Gartendekorationen der ganz besonderen Art!\nHier kann
  man noch auf Schatzsuche gehen und die tollsten Sachen finden\, sich insp
 irieren lassen und einen entspannten Tag erleben.Allein der Veranstaltungs
 ort ist ein Highlight - die Trödelgärtnerei Tausendschön - der perfekte
  Ort\, die Seele baumeln zu lassen. Zwischen seltenen Pflanzen\, bunten un
 d ausgefallenen Sommerblumen und jeder Menge Trödel kann man so einen Son
 ntag herrlich anders gestalten.Gekühlte Getränke\, Kaffee und Kuchen kom
 plettieren ein schönes Sonntagserlebnis.Wer noch mitmachen möchte\, meld
 et sich bitte telefonisch unter 01797629998 oder kommt kurz vorbei: Domhof
  11 an der Gärtnerei oder im Aufhaus.\nEckdaten:Domhof 11\, 48683AhausAus
 steller: Aufbau ab 8 UhrBesucher: 11 bis 15 UhrParkplätze reichlich und k
 ostenfrei 
LOCATION:Domhof 11 48683 
SUMMARY:Tausendschöner Langschläferflohmarkt
END:VEVENT
END:VCALENDAR
